BEGIN:VCALENDAR
VERSION:2.0
PRODID:-//gdp//event//DE
METHOD:PUBLISH
NAME:gdp
X-WR-CALNAME:gdp
BEGIN:VEVENT
UID:9ded11a3-5522-4d99-9d56-e97676432c90
SEQUENCE:0
DTSTAMP:20260421T172854Z
DTSTART:20260629T070000Z
DTEND:20260629T130000Z
SUMMARY:2614 – BPersVG-Online-Spezialschulung: Personalmaßnahmen
DESCRIPTION:Online via WebEx Anmeldeschluss: 19.04.2026\n / Diese Online-S
 chulung richtet sich an gewählte Personalratsmitglieder. Schulungsgegenst
 and sind die verschiedenen Personalmaßnahmen und ihre jeweiligen rechtlic
 hen Voraussetzungen. Dabei geht es um die Themen Abordnung und Versetzung 
 – auch gegen den Willen des Betroffenen – sowie um Zuweisung\, Umsetzu
 ng und Personalgestellung. Es wird geklärt\, welche rechtlichen Möglichk
 eiten die Beschäftigte haben und welche Rolle der Personalvertretung in d
 iesem Zusammenhang zukommt.\n / Die Schulung findet am Veranstaltungstag 
 über das Programm WebEx in der Zeit von 9 bis 15 Uhr statt. Eine einstün
 dige Mittagspause ist eingeplant. Teilnahmevoraussetzung | Organisatorisch
 es\n / Teilnahmevoraussetzung ist die Vorlage einer Kostenübernahmeerklä
 rung. Diese stellt die zuständige Dienststelle auf Basis eines Entsendebe
 schlusses des jeweiligen Personalrates aus. Die Rechnungsstellung über 11
 5 Euro erfolgt nach Schulungsende an die Dienststelle auf Grundlage des Rd
 Schr. D2 30001/13#4 des Bundesministeriums des Innern und für Heimat (BMI
 ) v. 06.05.2022. Weitere Informationen hierzu versenden wir nach Anmeldesc
 hluss bzw. bei erfolgreicher Anmeldung. \n /  \nAn wen kann ich mich bei
  Fragen wenden?\n / Fragen zur Organisation und Anmeldung beantwortet Tobi
 as Spantig. Über inhaltliche Fragen und Feedback freut sich unser Bildung
 sreferent Rouven Gottschalk.\n /  \n / > Zurück zur Seminarübersicht 26
 14 – BPersVG-Online-Spezialschulung: Personalmaßnahmen
URL;VALUE=URI:https://www.gdp.de/bundespolizei-zoll/de/seminare/bpersvg/20
 26/2614-bpersvg-online-spezialschulung-personalmassnahmen
END:VEVENT
END:VCALENDAR