BEGIN:VCALENDAR
VERSION:2.0
PRODID:-//gdp//event//DE
METHOD:PUBLISH
NAME:gdp
X-WR-CALNAME:gdp
BEGIN:VEVENT
UID:63a91595-7cba-4088-a2e7-f1bf7f39aa4b
SEQUENCE:0
DTSTAMP:20260421T174704Z
DTSTART:20260622T120000Z
DTEND:20260626T120000Z
SUMMARY:2610 – BPersVG-Spezialschulung: Strategische Kommunikation und 
 Verhandlungstechniken
LOCATION:Hotel am Kurpark Am Kurpark 19-21\, 36251 Bad Hersfeld\, Deutschl
 and
DESCRIPTION:Bad Hersfeld Hotel am Kurpark Am Kurpark 19-21 Anmeldeschluss:
  12.04.2026\n / In dieser Schulung lernst Du\, Gespräche mit Dienststelle
 nleitungen und Behörden professionell und souverän zu führen. Du erfäh
 rst\, wie strategische Kommunikation funktioniert\, wie Du Verhandlungen s
 trukturiert vorbereitest und überzeugend argumentierst. Praxisnahe Rollen
 spiele geben Dir Sicherheit\, die Interessen der Beschäftigten klar und w
 irkungsvoll zu vertreten und tragfähige Verhandlungsergebnisse zu erziele
 n. Teilnahmevoraussetzung | Organisatorisches\n / Teilnahmeberechtigt sind
  alle Personalratsmitglieder. Die Anmeldungen von funktionstragenden Mitgl
 iedern werden priorisiert berücksichtig.  / Teilnahmevoraussetzung ist d
 ie Vorlage einer Kostenübernahmeerklärung. Diese stellt die zuständige 
 Dienststelle auf Basis eines Entsendebeschlusses des jeweiligen Personalra
 tes aus. Die Rechnungsstellung über 250 Euro pro Tag erfolgt nach Schulun
 gsende an die Dienststelle auf Grundlage des RdSchr. D2 30001/13#4 des Bun
 desministeriums des Innern und für Heimat (BMI) v. 06.05.2022. Weitere In
 formationen hierzu versenden wir nach Anmeldeschluss bzw. bei erfolgreiche
 r Anmeldung.\n / An wen kann ich mich bei Fragen wenden?\n / Bei Fragen zu
 r Organisation und Anmeldung wende Dich bitte an Tobias Spantig. Über inh
 altliche Fragen und Feedback freut sich unser Bildungsreferent Rouven Gott
 schalk.\n /  \n / > Zurück zur Seminarübersicht 2610 – BPersVG-Spezi
 alschulung: Strategische Kommunikation und Verhandlungstechniken 36251
URL;VALUE=URI:https://www.gdp.de/bundespolizei-zoll/de/seminare/bpersvg/20
 26/2610-bpersvg-spezialschulung-strategische-kommunikation-und-verhandlung
 stechniken
END:VEVENT
END:VCALENDAR